BEGIN:VCALENDAR
VERSION:2.0
PRODID:-//Disability Network Southwest Michigan - ECPv6.6.4.2//NONSGML v1.0//EN
CALSCALE:GREGORIAN
METHOD:PUBLISH
X-ORIGINAL-URL:https://www.dnswm.org
X-WR-CALDESC:Events for Disability Network Southwest Michigan
REFRESH-INTERVAL;VALUE=DURATION:PT1H
X-Robots-Tag:noindex
X-PUBLISHED-TTL:PT1H
BEGIN:VTIMEZONE
TZID:America/New_York
BEGIN:DAYLIGHT
TZOFFSETFROM:-0500
TZOFFSETTO:-0400
TZNAME:EDT
DTSTART:20260308T070000
END:DAYLIGHT
BEGIN:STANDARD
TZOFFSETFROM:-0400
TZOFFSETTO:-0500
TZNAME:EST
DTSTART:20261101T060000
END:STANDARD
END:VTIMEZONE
BEGIN:VEVENT
DTSTART;TZID=America/New_York:20260423T100000
DTEND;TZID=America/New_York:20260423T113000
DTSTAMP:20260423T173700
CREATED:20240430T202536Z
LAST-MODIFIED:20260211T220211Z
UID:27142-1776938400-1776943800@www.dnswm.org
SUMMARY:Webinar: Do's & Don'ts of Assistance Animals
DESCRIPTION:  \n\nAbleism 101: Everything you know about disability is (probably) wrong!\n\nIn its simplest form\, ableism is the belief system that tells us it is better to be non-disabled than it is to be disabled. Ableism also examines disability discrimination on a systemic level by looking at the ways our society designs physically and socially segregated systems. \n\nIn this Ableism 101 workshop\, we will introduce the basic concepts of ableism and explore how the language we use around disability can either support equality or perpetuate stigma. Participants will be challenged to identify their own unconscious bias around disability. Come learn how to support the disability rights movement in Southwest Michigan.  \n\nThis webinar will be offered at the following times: \n\n\nThursday\, November 7\, 2024 at 9:00 AM to 12:00 PM — (Click here to register)\n\n\nDisability Network Southwest Michigan believes all people deserve full access and inclusion in our programs and services and will make every effort to secure necessary accommodations for participants in our events. Please register as soon as possible if you will require an accommodation to participate. \n\nIf you have any questions or concerns regarding this webinar\, please follow this link to email Miranda or call her at 269-345-1516 x120.
URL:https://www.dnswm.org/event/webinar-dos-donts-of-assistance-animals/
CATEGORIES:Educational
END:VEVENT
BEGIN:VEVENT
DTSTART;TZID=America/New_York:20260430T143000
DTEND;TZID=America/New_York:20260430T160000
DTSTAMP:20260423T173700
CREATED:20240925T164311Z
LAST-MODIFIED:20260211T204352Z
UID:32321-1777559400-1777564800@www.dnswm.org
SUMMARY:Webinar: Supporting Autistic People
DESCRIPTION:  \n\nAbleism 101: Everything you know about disability is (probably) wrong!\n\nIn its simplest form\, ableism is the belief system that tells us it is better to be non-disabled than it is to be disabled. Ableism also examines disability discrimination on a systemic level by looking at the ways our society designs physically and socially segregated systems. \n\nIn this Ableism 101 workshop\, we will introduce the basic concepts of ableism and explore how the language we use around disability can either support equality or perpetuate stigma. Participants will be challenged to identify their own unconscious bias around disability. Come learn how to support the disability rights movement in Southwest Michigan.  \n\nThis webinar will be offered at the following times: \n\n\nThursday\, November 7\, 2024 at 9:00 AM to 12:00 PM — (Click here to register)\n\n\nDisability Network Southwest Michigan believes all people deserve full access and inclusion in our programs and services and will make every effort to secure necessary accommodations for participants in our events. Please register as soon as possible if you will require an accommodation to participate. \n\nIf you have any questions or concerns regarding this webinar\, please follow this link to email Miranda or call her at 269-345-1516 x120.
URL:https://www.dnswm.org/event/ptw-the-power-of-connection/
CATEGORIES:Educational
END:VEVENT
BEGIN:VEVENT
DTSTART;TZID=America/New_York:20260506T140000
DTEND;TZID=America/New_York:20260506T160000
DTSTAMP:20260423T173700
CREATED:20240422T214350Z
LAST-MODIFIED:20260212T195312Z
UID:26951-1778076000-1778083200@www.dnswm.org
SUMMARY:Webinar: Mental Health Through a Disability Lens
DESCRIPTION:  \n\nAbleism 101: Everything you know about disability is (probably) wrong!\n\nIn its simplest form\, ableism is the belief system that tells us it is better to be non-disabled than it is to be disabled. Ableism also examines disability discrimination on a systemic level by looking at the ways our society designs physically and socially segregated systems. \n\nIn this Ableism 101 workshop\, we will introduce the basic concepts of ableism and explore how the language we use around disability can either support equality or perpetuate stigma. Participants will be challenged to identify their own unconscious bias around disability. Come learn how to support the disability rights movement in Southwest Michigan.  \n\nThis webinar will be offered at the following times: \n\n\nThursday\, November 7\, 2024 at 9:00 AM to 12:00 PM — (Click here to register)\n\n\nDisability Network Southwest Michigan believes all people deserve full access and inclusion in our programs and services and will make every effort to secure necessary accommodations for participants in our events. Please register as soon as possible if you will require an accommodation to participate. \n\nIf you have any questions or concerns regarding this webinar\, please follow this link to email Miranda or call her at 269-345-1516 x120.
URL:https://www.dnswm.org/event/webinar-mental-health-through-a-disability-lens-2/
CATEGORIES:Educational
END:VEVENT
BEGIN:VEVENT
DTSTART;TZID=America/New_York:20260512T130000
DTEND;TZID=America/New_York:20260512T160000
DTSTAMP:20260423T173700
CREATED:20240221T195433Z
LAST-MODIFIED:20260212T193917Z
UID:25937-1778590800-1778601600@www.dnswm.org
SUMMARY:Webinar: Ableism 101
DESCRIPTION:  \n\nAbleism 101: Everything you know about disability is (probably) wrong!\n\nIn its simplest form\, ableism is the belief system that tells us it is better to be non-disabled than it is to be disabled. Ableism also examines disability discrimination on a systemic level by looking at the ways our society designs physically and socially segregated systems. \n\nIn this Ableism 101 workshop\, we will introduce the basic concepts of ableism and explore how the language we use around disability can either support equality or perpetuate stigma. Participants will be challenged to identify their own unconscious bias around disability. Come learn how to support the disability rights movement in Southwest Michigan.  \n\nThis webinar will be offered at the following times: \n\n\nThursday\, November 7\, 2024 at 9:00 AM to 12:00 PM — (Click here to register)\n\n\nDisability Network Southwest Michigan believes all people deserve full access and inclusion in our programs and services and will make every effort to secure necessary accommodations for participants in our events. Please register as soon as possible if you will require an accommodation to participate. \n\nIf you have any questions or concerns regarding this webinar\, please follow this link to email Miranda or call her at 269-345-1516 x120.
URL:https://www.dnswm.org/event/ptw-instilling-disability-pride-in-your-child-3/
CATEGORIES:Educational
END:VEVENT
BEGIN:VEVENT
DTSTART;TZID=America/New_York:20260514T133000
DTEND;TZID=America/New_York:20260514T150000
DTSTAMP:20260423T173700
CREATED:20260212T174525Z
LAST-MODIFIED:20260212T174748Z
UID:80377-1778765400-1778770800@www.dnswm.org
SUMMARY:Webinar: Advocating for Yourself in Healthcare
DESCRIPTION:  \n\nAbleism 101: Everything you know about disability is (probably) wrong!\n\nIn its simplest form\, ableism is the belief system that tells us it is better to be non-disabled than it is to be disabled. Ableism also examines disability discrimination on a systemic level by looking at the ways our society designs physically and socially segregated systems. \n\nIn this Ableism 101 workshop\, we will introduce the basic concepts of ableism and explore how the language we use around disability can either support equality or perpetuate stigma. Participants will be challenged to identify their own unconscious bias around disability. Come learn how to support the disability rights movement in Southwest Michigan.  \n\nThis webinar will be offered at the following times: \n\n\nThursday\, November 7\, 2024 at 9:00 AM to 12:00 PM — (Click here to register)\n\n\nDisability Network Southwest Michigan believes all people deserve full access and inclusion in our programs and services and will make every effort to secure necessary accommodations for participants in our events. Please register as soon as possible if you will require an accommodation to participate. \n\nIf you have any questions or concerns regarding this webinar\, please follow this link to email Miranda or call her at 269-345-1516 x120.
URL:https://www.dnswm.org/event/webinar-advocating-for-yourself-in-healthcare/
CATEGORIES:Educational
END:VEVENT
BEGIN:VEVENT
DTSTART;TZID=America/New_York:20260519T100000
DTEND;TZID=America/New_York:20260519T113000
DTSTAMP:20260423T173700
CREATED:20260212T175014Z
LAST-MODIFIED:20260212T175019Z
UID:80381-1779184800-1779190200@www.dnswm.org
SUMMARY:Webinar: Advocating for Yourself in Healthcare
DESCRIPTION:  \n\nAbleism 101: Everything you know about disability is (probably) wrong!\n\nIn its simplest form\, ableism is the belief system that tells us it is better to be non-disabled than it is to be disabled. Ableism also examines disability discrimination on a systemic level by looking at the ways our society designs physically and socially segregated systems. \n\nIn this Ableism 101 workshop\, we will introduce the basic concepts of ableism and explore how the language we use around disability can either support equality or perpetuate stigma. Participants will be challenged to identify their own unconscious bias around disability. Come learn how to support the disability rights movement in Southwest Michigan.  \n\nThis webinar will be offered at the following times: \n\n\nThursday\, November 7\, 2024 at 9:00 AM to 12:00 PM — (Click here to register)\n\n\nDisability Network Southwest Michigan believes all people deserve full access and inclusion in our programs and services and will make every effort to secure necessary accommodations for participants in our events. Please register as soon as possible if you will require an accommodation to participate. \n\nIf you have any questions or concerns regarding this webinar\, please follow this link to email Miranda or call her at 269-345-1516 x120.
URL:https://www.dnswm.org/event/webinar-advocating-for-yourself-in-healthcare-2/
CATEGORIES:Educational
END:VEVENT
BEGIN:VEVENT
DTSTART;TZID=America/New_York:20260527T130000
DTEND;TZID=America/New_York:20260527T160000
DTSTAMP:20260423T173700
CREATED:20230228T220433Z
LAST-MODIFIED:20260212T194632Z
UID:19736-1779886800-1779897600@www.dnswm.org
SUMMARY:Webinar: Ableism 102
DESCRIPTION:  \n\nAbleism 101: Everything you know about disability is (probably) wrong!\n\nIn its simplest form\, ableism is the belief system that tells us it is better to be non-disabled than it is to be disabled. Ableism also examines disability discrimination on a systemic level by looking at the ways our society designs physically and socially segregated systems. \n\nIn this Ableism 101 workshop\, we will introduce the basic concepts of ableism and explore how the language we use around disability can either support equality or perpetuate stigma. Participants will be challenged to identify their own unconscious bias around disability. Come learn how to support the disability rights movement in Southwest Michigan.  \n\nThis webinar will be offered at the following times: \n\n\nThursday\, November 7\, 2024 at 9:00 AM to 12:00 PM — (Click here to register)\n\n\nDisability Network Southwest Michigan believes all people deserve full access and inclusion in our programs and services and will make every effort to secure necessary accommodations for participants in our events. Please register as soon as possible if you will require an accommodation to participate. \n\nIf you have any questions or concerns regarding this webinar\, please follow this link to email Miranda or call her at 269-345-1516 x120.
URL:https://www.dnswm.org/event/webinar-ableism-102-2/
END:VEVENT
BEGIN:VEVENT
DTSTART;TZID=America/New_York:20260609T100000
DTEND;TZID=America/New_York:20260609T113000
DTSTAMP:20260423T173700
CREATED:20240703T182911Z
LAST-MODIFIED:20260410T172211Z
UID:29119-1780999200-1781004600@www.dnswm.org
SUMMARY:Webinar: Disability Language & Etiquette
DESCRIPTION:  \n\nAbleism 101: Everything you know about disability is (probably) wrong!\n\nIn its simplest form\, ableism is the belief system that tells us it is better to be non-disabled than it is to be disabled. Ableism also examines disability discrimination on a systemic level by looking at the ways our society designs physically and socially segregated systems. \n\nIn this Ableism 101 workshop\, we will introduce the basic concepts of ableism and explore how the language we use around disability can either support equality or perpetuate stigma. Participants will be challenged to identify their own unconscious bias around disability. Come learn how to support the disability rights movement in Southwest Michigan.  \n\nThis webinar will be offered at the following times: \n\n\nThursday\, November 7\, 2024 at 9:00 AM to 12:00 PM — (Click here to register)\n\n\nDisability Network Southwest Michigan believes all people deserve full access and inclusion in our programs and services and will make every effort to secure necessary accommodations for participants in our events. Please register as soon as possible if you will require an accommodation to participate. \n\nIf you have any questions or concerns regarding this webinar\, please follow this link to email Miranda or call her at 269-345-1516 x120.
URL:https://www.dnswm.org/event/webinar-disability-language-etiquette-2/
CATEGORIES:Educational,General
END:VEVENT
BEGIN:VEVENT
DTSTART;TZID=America/New_York:20260616T183000
DTEND;TZID=America/New_York:20260616T200000
DTSTAMP:20260423T173700
CREATED:20240221T182808Z
LAST-MODIFIED:20260410T171925Z
UID:25901-1781634600-1781640000@www.dnswm.org
SUMMARY:Webinar: You CAN Work When Receiving Social Security Disability Benefits!
DESCRIPTION:  \n\nAbleism 101: Everything you know about disability is (probably) wrong!\n\nIn its simplest form\, ableism is the belief system that tells us it is better to be non-disabled than it is to be disabled. Ableism also examines disability discrimination on a systemic level by looking at the ways our society designs physically and socially segregated systems. \n\nIn this Ableism 101 workshop\, we will introduce the basic concepts of ableism and explore how the language we use around disability can either support equality or perpetuate stigma. Participants will be challenged to identify their own unconscious bias around disability. Come learn how to support the disability rights movement in Southwest Michigan.  \n\nThis webinar will be offered at the following times: \n\n\nThursday\, November 7\, 2024 at 9:00 AM to 12:00 PM — (Click here to register)\n\n\nDisability Network Southwest Michigan believes all people deserve full access and inclusion in our programs and services and will make every effort to secure necessary accommodations for participants in our events. Please register as soon as possible if you will require an accommodation to participate. \n\nIf you have any questions or concerns regarding this webinar\, please follow this link to email Miranda or call her at 269-345-1516 x120.
URL:https://www.dnswm.org/event/ptw-understanding-social-security-benefits/
CATEGORIES:Educational
END:VEVENT
BEGIN:VEVENT
DTSTART;TZID=America/New_York:20260625T100000
DTEND;TZID=America/New_York:20260625T113000
DTSTAMP:20260423T173700
CREATED:20240422T183731Z
LAST-MODIFIED:20260410T171204Z
UID:26939-1782381600-1782387000@www.dnswm.org
SUMMARY:Webinar: Accessible Content
DESCRIPTION:  \n\nAbleism 101: Everything you know about disability is (probably) wrong!\n\nIn its simplest form\, ableism is the belief system that tells us it is better to be non-disabled than it is to be disabled. Ableism also examines disability discrimination on a systemic level by looking at the ways our society designs physically and socially segregated systems. \n\nIn this Ableism 101 workshop\, we will introduce the basic concepts of ableism and explore how the language we use around disability can either support equality or perpetuate stigma. Participants will be challenged to identify their own unconscious bias around disability. Come learn how to support the disability rights movement in Southwest Michigan.  \n\nThis webinar will be offered at the following times: \n\n\nThursday\, November 7\, 2024 at 9:00 AM to 12:00 PM — (Click here to register)\n\n\nDisability Network Southwest Michigan believes all people deserve full access and inclusion in our programs and services and will make every effort to secure necessary accommodations for participants in our events. Please register as soon as possible if you will require an accommodation to participate. \n\nIf you have any questions or concerns regarding this webinar\, please follow this link to email Miranda or call her at 269-345-1516 x120.
URL:https://www.dnswm.org/event/webinar-accessible-content-5/
CATEGORIES:Educational,General
END:VEVENT
END:VCALENDAR