BEGIN:VCALENDAR
VERSION:2.0
PRODID:-//Disability Network Southwest Michigan - ECPv6.6.4.2//NONSGML v1.0//EN
CALSCALE:GREGORIAN
METHOD:PUBLISH
X-ORIGINAL-URL:https://www.dnswm.org
X-WR-CALDESC:Events for Disability Network Southwest Michigan
REFRESH-INTERVAL;VALUE=DURATION:PT1H
X-Robots-Tag:noindex
X-PUBLISHED-TTL:PT1H
BEGIN:VTIMEZONE
TZID:America/New_York
BEGIN:DAYLIGHT
TZOFFSETFROM:-0500
TZOFFSETTO:-0400
TZNAME:EDT
DTSTART:20260308T070000
END:DAYLIGHT
BEGIN:STANDARD
TZOFFSETFROM:-0400
TZOFFSETTO:-0500
TZNAME:EST
DTSTART:20261101T060000
END:STANDARD
END:VTIMEZONE
BEGIN:VEVENT
DTSTART;TZID=America/New_York:20260310T100000
DTEND;TZID=America/New_York:20260310T113000
DTSTAMP:20260423T045245
CREATED:20251209T223604Z
LAST-MODIFIED:20251209T224504Z
UID:78148-1773136800-1773142200@www.dnswm.org
SUMMARY:Webinar: Accessibility in the Wild: An Introduction to Physical Accessibility
DESCRIPTION:This workshop is a practical introduction to understanding and improving accessibility in your community spaces\, programs\, and services. Participants will learn basic concepts of the Americans with Disabilities Act (ADA)\, including how accessibility applies to entrances\, doors\, paths of travel\, service counters\, signage\, parking\, and more. Through real-world examples and simple tips\, attendees will gain insight into common barriers and learn small but meaningful ways to make spaces more inclusive. The session will also highlight how Disability Network Southwest Michigan can support you in making your spaces accessible to everyone. No prior experience is needed—this session is for anyone who cares about creating welcoming\, accessible spaces for all community members. \n\n\n\nThis event is being offered online at the following times: \n\n\n\n\nTuesday\, March 10\, 2026\, from 10:00 to 11:30 AM – (Click here to register)\n\n\n\nThursday\, March 26\, 2026\, from 1:30 to 3:00 PM – (Click here to register)\n\n\n\n\nDisability Network Southwest Michigan believes all people deserve full access and inclusion in our programs and services and will make every effort to secure necessary accommodations for participants in our events. Please register as soon as possible if you will require an accommodation to participate. \n\n\n\nIf you have any questions or concerns regarding this webinar\, please follow this link to email Miranda or call her at 269-345-1516 x120.
URL:https://www.dnswm.org/event/webinar-accessibility-in-the-wild-an-introduction-to-physical-accessibility/
CATEGORIES:Educational
END:VEVENT
BEGIN:VEVENT
DTSTART;TZID=America/New_York:20260311T133000
DTEND;TZID=America/New_York:20260311T150000
DTSTAMP:20260423T045245
CREATED:20240108T235315Z
LAST-MODIFIED:20251209T224710Z
UID:25233-1773235800-1773241200@www.dnswm.org
SUMMARY:Webinar: Emergency Preparedness for People with Disabilities
DESCRIPTION:In this presentation\, learn how to make an emergency plan for your household. Everyone needs to prepare for emergencies\, yet most of us don’t think about it until we are in crisis mode. Whether an emergency forces you to leave your home or stay in it\, you can feel secure knowing you have a plan. \n\n\n\nThis webinar will take place at the following times: \n\n\n\n\nWednesday\, March 11\, 2026\, at 1:30 to 3:00 PM — (Click here to register) \n\n\n\n\nDisability Network Southwest Michigan believes all people deserve full access and inclusion in our programs and services and will make every effort to secure necessary accommodations for participants in our events. Please register as soon as possible if you will require an accommodation to participate. \n\n\n\nIf you have any questions or concerns regarding this webinar\, please follow this link to email Miranda or call her at 269-345-1516 x120.
URL:https://www.dnswm.org/event/webinar-ableism-102-part-2/
CATEGORIES:Educational
END:VEVENT
BEGIN:VEVENT
DTSTART;TZID=America/New_York:20260317T150000
DTEND;TZID=America/New_York:20260317T163000
DTSTAMP:20260423T045245
CREATED:20231207T133440Z
LAST-MODIFIED:20251209T225018Z
UID:24800-1773759600-1773765000@www.dnswm.org
SUMMARY:Webinar: Understanding Social Security Benefits
DESCRIPTION:Parents and guardians often feel lost when it comes to navigating Social Security disability benefits for their loved one with a disability. This training will provide an overview of the two Social Security disability benefit programs – Supplemental Security Income (SSI) and Social Security Disability Insurance (SSDI) – which can provide financial support to individuals with disabilities. Presenters will touch on the benefit application process\, important factors around turning age 18\, the impact of parental income/assets\, and the myth that people receiving benefits can’t hold employment to reach further financial security. \n\n\n\nThis event is offered at the following times: \n\n\n\n\nTuesday\, March 17\, 2026\, at 3:00 to 4:30 PM — (Click here to register)\n\n\n\n\nParticipation in this event is available through an internet connection. Disability Network Southwest Michigan believes all people deserve full access and inclusion in our programs and services and will make every effort to secure necessary accommodations for participants in our events. Please register as soon as possible if you will require an accommodation to participate. \n\n\n\nIf you have any questions or concerns regarding this webinar\, please follow this link to email Miranda or call her at 269-345-1516 x120.
URL:https://www.dnswm.org/event/ptw-understanding-social-security-benefits-2/
CATEGORIES:Educational
END:VEVENT
BEGIN:VEVENT
DTSTART;TZID=America/New_York:20260326T133000
DTEND;TZID=America/New_York:20260326T150000
DTSTAMP:20260423T045246
CREATED:20251209T224037Z
LAST-MODIFIED:20251209T225054Z
UID:78151-1774531800-1774537200@www.dnswm.org
SUMMARY:Webinar: Accessibility in the Wild: An Introduction to Physical Accessibility
DESCRIPTION:This workshop is a practical introduction to understanding and improving accessibility in your community spaces\, programs\, and services. Participants will learn basic concepts of the Americans with Disabilities Act (ADA)\, including how accessibility applies to entrances\, doors\, paths of travel\, service counters\, signage\, parking\, and more. Through real-world examples and simple tips\, attendees will gain insight into common barriers and learn small but meaningful ways to make spaces more inclusive. The session will also highlight how Disability Network Southwest Michigan can support you in making your spaces accessible to everyone. No prior experience is needed—this session is for anyone who cares about creating welcoming\, accessible spaces for all community members. \n\n\n\nThis event is being offered online at the following time: \n\n\n\n\nThursday\, March 26\, 2026\, from 1:30 to 3:00 PM – (Click here to register)\n\n\n\n\nDisability Network Southwest Michigan believes all people deserve full access and inclusion in our programs and services and will make every effort to secure necessary accommodations for participants in our events. Please register as soon as possible if you will require an accommodation to participate. \n\n\n\nIf you have any questions or concerns regarding this webinar\, please follow this link to email Miranda or call her at 269-345-1516 x120.
URL:https://www.dnswm.org/event/webinar-accessibility-in-the-wild-an-introduction-to-physical-accessibility-2/
CATEGORIES:Educational
END:VEVENT
END:VCALENDAR